BEGIN:VCALENDAR
VERSION:2.0
PRODID:-//Fred Waara Chapter of Trout Unlimited - ECPv6.15.20//NONSGML v1.0//EN
CALSCALE:GREGORIAN
METHOD:PUBLISH
X-ORIGINAL-URL:https://fredwaaratu.org
X-WR-CALDESC:Events for Fred Waara Chapter of Trout Unlimited
REFRESH-INTERVAL;VALUE=DURATION:PT1H
X-Robots-Tag:noindex
X-PUBLISHED-TTL:PT1H
BEGIN:VTIMEZONE
TZID:America/Detroit
BEGIN:DAYLIGHT
TZOFFSETFROM:-0500
TZOFFSETTO:-0400
TZNAME:EDT
DTSTART:20250309T070000
END:DAYLIGHT
BEGIN:STANDARD
TZOFFSETFROM:-0400
TZOFFSETTO:-0500
TZNAME:EST
DTSTART:20251102T060000
END:STANDARD
BEGIN:DAYLIGHT
TZOFFSETFROM:-0500
TZOFFSETTO:-0400
TZNAME:EDT
DTSTART:20260308T070000
END:DAYLIGHT
BEGIN:STANDARD
TZOFFSETFROM:-0400
TZOFFSETTO:-0500
TZNAME:EST
DTSTART:20261101T060000
END:STANDARD
BEGIN:DAYLIGHT
TZOFFSETFROM:-0500
TZOFFSETTO:-0400
TZNAME:EDT
DTSTART:20270314T070000
END:DAYLIGHT
BEGIN:STANDARD
TZOFFSETFROM:-0400
TZOFFSETTO:-0500
TZNAME:EST
DTSTART:20271107T060000
END:STANDARD
END:VTIMEZONE
BEGIN:VTIMEZONE
TZID:UTC
BEGIN:STANDARD
TZOFFSETFROM:+0000
TZOFFSETTO:+0000
TZNAME:UTC
DTSTART:20250101T000000
END:STANDARD
END:VTIMEZONE
BEGIN:VEVENT
DTSTART;TZID=America/Detroit:20260205T190000
DTEND;TZID=America/Detroit:20260205T200000
DTSTAMP:20260423T083223
CREATED:20251220T125006Z
LAST-MODIFIED:20251220T125006Z
UID:707-1770318000-1770321600@fredwaaratu.org
SUMMARY:Superior On Tap - Fred Warra Chapter of Trout Unlimited
DESCRIPTION:Please join us as we discuss current and future wetlands and cold water stream conservation activities in the Lake Superior Watershed with Citizens for a Safe & Clean Lake Superior
URL:https://fredwaaratu.org/event/superior-on-tap-fred-warra-chapter-of-trout-unlimited/
LOCATION:Ore Dock Brewing Co.\, 114 W Spring St\, Marquette\, MI\, 49855\, United States
ORGANIZER;CN="Doug Miller":MAILTO:fredwaaratu@gmail.com
END:VEVENT
BEGIN:VEVENT
DTSTART;TZID=UTC:20260311T180000
DTEND;TZID=UTC:20260311T200000
DTSTAMP:20260423T083223
CREATED:20260217T124300Z
LAST-MODIFIED:20260217T124300Z
UID:754-1773252000-1773259200@fredwaaratu.org
SUMMARY:Tie One On with TU
DESCRIPTION:
URL:https://fredwaaratu.org/event/tie-one-on-with-tu/
LOCATION:Ore Dock Brewing Co.\, 114 W Spring St\, Marquette\, MI\, 49855\, United States
END:VEVENT
BEGIN:VEVENT
DTSTART;TZID=UTC:20260411T163000
DTEND;TZID=UTC:20260411T200000
DTSTAMP:20260423T083223
CREATED:20260217T124549Z
LAST-MODIFIED:20260217T125319Z
UID:756-1775925000-1775937600@fredwaaratu.org
SUMMARY:Upper Peninsula Fly Fishing Film Festival (UP4F)
DESCRIPTION:
URL:https://fredwaaratu.org/event/upper-peninsula-fly-fishing-film-festival-up4f/
LOCATION:NMU Northern Center Ballrooms\, 600 W Kaye Ave\, Marquette\, MI\, 49855\, United States
ORGANIZER;CN="Doug Miller":MAILTO:fredwaaratu@gmail.com
END:VEVENT
END:VCALENDAR