BEGIN:VCALENDAR
VERSION:2.0
PRODID:-//Fred Waara Chapter of Trout Unlimited - ECPv6.15.20//NONSGML v1.0//EN
CALSCALE:GREGORIAN
METHOD:PUBLISH
X-ORIGINAL-URL:https://fredwaaratu.org
X-WR-CALDESC:Events for Fred Waara Chapter of Trout Unlimited
REFRESH-INTERVAL;VALUE=DURATION:PT1H
X-Robots-Tag:noindex
X-PUBLISHED-TTL:PT1H
BEGIN:VTIMEZONE
TZID:UTC
BEGIN:STANDARD
TZOFFSETFROM:+0000
TZOFFSETTO:+0000
TZNAME:UTC
DTSTART:20250101T000000
END:STANDARD
END:VTIMEZONE
BEGIN:VEVENT
DTSTART;TZID=UTC:20260311T180000
DTEND;TZID=UTC:20260311T200000
DTSTAMP:20260421T125015
CREATED:20260217T124300Z
LAST-MODIFIED:20260217T124300Z
UID:754-1773252000-1773259200@fredwaaratu.org
SUMMARY:Tie One On with TU
DESCRIPTION:
URL:https://fredwaaratu.org/event/tie-one-on-with-tu/
LOCATION:Ore Dock Brewing Co.\, 114 W Spring St\, Marquette\, MI\, 49855\, United States
END:VEVENT
END:VCALENDAR